BEGIN:VCALENDAR
VERSION:2.0
PRODID:-//Sander C. Lekkerkerk, pianist, collaborator and educator - ECPv6.15.20//NONSGML v1.0//EN
CALSCALE:GREGORIAN
METHOD:PUBLISH
X-ORIGINAL-URL:https://sanderclekkerkerk.com
X-WR-CALDESC:Events for Sander C. Lekkerkerk, pianist, collaborator and educator
REFRESH-INTERVAL;VALUE=DURATION:PT1H
X-Robots-Tag:noindex
X-PUBLISHED-TTL:PT1H
BEGIN:VTIMEZONE
TZID:Europe/Zurich
BEGIN:DAYLIGHT
TZOFFSETFROM:+0100
TZOFFSETTO:+0200
TZNAME:CEST
DTSTART:20240331T010000
END:DAYLIGHT
BEGIN:STANDARD
TZOFFSETFROM:+0200
TZOFFSETTO:+0100
TZNAME:CET
DTSTART:20241027T010000
END:STANDARD
BEGIN:DAYLIGHT
TZOFFSETFROM:+0100
TZOFFSETTO:+0200
TZNAME:CEST
DTSTART:20250330T010000
END:DAYLIGHT
BEGIN:STANDARD
TZOFFSETFROM:+0200
TZOFFSETTO:+0100
TZNAME:CET
DTSTART:20251026T010000
END:STANDARD
BEGIN:DAYLIGHT
TZOFFSETFROM:+0100
TZOFFSETTO:+0200
TZNAME:CEST
DTSTART:20260329T010000
END:DAYLIGHT
BEGIN:STANDARD
TZOFFSETFROM:+0200
TZOFFSETTO:+0100
TZNAME:CET
DTSTART:20261025T010000
END:STANDARD
END:VTIMEZONE
BEGIN:VEVENT
DTSTART;TZID=Europe/Zurich:20250131T123000
DTEND;TZID=Europe/Zurich:20250131T133000
DTSTAMP:20260420T210954
CREATED:20250223T132253Z
LAST-MODIFIED:20250223T132253Z
UID:254-1738326600-1738330200@sanderclekkerkerk.com
SUMMARY:Solorecital Stadshuis Leiden de Vink
DESCRIPTION:On the programme works by Haydn\, Godowsky\, Liszt and Chopin will be performed and presented with extra information by the pianist\,
URL:https://sanderclekkerkerk.com/event/solorecital-stadshuis-leiden-de-vink/
END:VEVENT
BEGIN:VEVENT
DTSTART;TZID=Europe/Zurich:20250125T160000
DTEND;TZID=Europe/Zurich:20250125T180000
DTSTAMP:20260420T210954
CREATED:20250223T132416Z
LAST-MODIFIED:20250223T132416Z
UID:256-1737820800-1737828000@sanderclekkerkerk.com
SUMMARY:Piano-violinperformance with Annika Starc\, Heidelberg\, Germany
DESCRIPTION:A performance in a private event in Heidelberg. Performed will be pieces by Mozart\, Kreisler\, Paganini and Brahms
URL:https://sanderclekkerkerk.com/event/piano-violinperformance-with-annika-starc-heidelberg-germany/
END:VEVENT
BEGIN:VEVENT
DTSTART;TZID=Europe/Zurich:20250124T190000
DTEND;TZID=Europe/Zurich:20250124T210000
DTSTAMP:20260420T210954
CREATED:20250223T132721Z
LAST-MODIFIED:20250223T132721Z
UID:260-1737745200-1737752400@sanderclekkerkerk.com
SUMMARY:Liedpodium with Christiaan Postuma and Lucas Lopez Lopez
DESCRIPTION:A humoristic Liedpodium from the Liedkurs at the Zürcher Hochschule der Künste. \nSongs by Bolcom\, Strauss\, Juliana Hall
URL:https://sanderclekkerkerk.com/event/liedpodium-with-christiaan-postuma-and-lucas-lopez-lopez/
END:VEVENT
BEGIN:VEVENT
DTSTART;TZID=Europe/Zurich:20250119T140000
DTEND;TZID=Europe/Zurich:20250119T150000
DTSTAMP:20260420T210954
CREATED:20250223T132937Z
LAST-MODIFIED:20250223T132937Z
UID:264-1737295200-1737298800@sanderclekkerkerk.com
SUMMARY:Lunchconcert café Felix am Globus
DESCRIPTION:On the programme works by Haydn\, Godowsky\, Liszt and Chopin will be performed and presented with extra information by the pianist\,
URL:https://sanderclekkerkerk.com/event/lunchconcert-cafe-felix-am-globus/
END:VEVENT
BEGIN:VEVENT
DTSTART;TZID=Europe/Zurich:20250119T110000
DTEND;TZID=Europe/Zurich:20250119T120000
DTSTAMP:20260420T210954
CREATED:20250223T132850Z
LAST-MODIFIED:20250223T132850Z
UID:262-1737284400-1737288000@sanderclekkerkerk.com
SUMMARY:Lunchconcert Café Felix am Bellevue
DESCRIPTION:On the programme works by Haydn\, Godowsky\, Liszt and Chopin will be performed and presented with extra information by the pianist\,
URL:https://sanderclekkerkerk.com/event/lunchconcert-cafe-felix-am-bellevue/
END:VEVENT
BEGIN:VEVENT
DTSTART;TZID=Europe/Zurich:20250109T183000
DTEND;TZID=Europe/Zurich:20250109T193000
DTSTAMP:20260420T210954
CREATED:20250223T133143Z
LAST-MODIFIED:20250223T133143Z
UID:268-1736447400-1736451000@sanderclekkerkerk.com
SUMMARY:Solorecital New Year Steiner Sihlau
DESCRIPTION:A closed solorecital where pieces by Haydn\, Godowsky and Rachmaninov will be performed
URL:https://sanderclekkerkerk.com/event/solorecital-new-year-steiner-sihlau/
END:VEVENT
BEGIN:VEVENT
DTSTART;TZID=Europe/Zurich:20250109T170000
DTEND;TZID=Europe/Zurich:20250109T180000
DTSTAMP:20260420T210954
CREATED:20250223T133044Z
LAST-MODIFIED:20250223T133044Z
UID:266-1736442000-1736445600@sanderclekkerkerk.com
SUMMARY:Final Recital Violin accompaniment
DESCRIPTION:On the programme are pieces by Mozart and Brahms for piano and violin
URL:https://sanderclekkerkerk.com/event/final-recital-violin-accompaniment/
END:VEVENT
END:VCALENDAR